BEGIN:VCALENDAR
VERSION:2.0
PRODID:-//wp-events-plugin.com//6.6.3//EN
BEGIN:VEVENT
UID:1@aclass.numerique.icu
DTSTART;TZID=America/New_York:20241105T000000
DTEND;TZID=America/New_York:20241106T000000
DTSTAMP:20241103T193518Z
URL:https://aclass.numerique.icu/events/01e-security-officer-core-subjects
 -entry-level/
SUMMARY:01E – Security Officer Core Subjects Entry Level
DESCRIPTION:This course will start November 2nd\, 2024 from 9:00 AM till 6:
 00 PM and will continue the following day November 3rd\, 2024 from 9:00 AM
  till 6:00 PM.
LOCATION:Aclassacademy\, 9303 Center Street Suite 100 MANASSAS\, VA 20110\,
  MANASSAS\, 20110\, 20110\, usa\, United States
X-APPLE-STRUCTURED-LOCATION;VALUE=URI;X-ADDRESS=9303 Center Street Suite 10
 0 MANASSAS\, VA 20110\, MANASSAS\, 20110\, 20110\, usa\, United States;X-A
 PPLE-RADIUS=100;X-TITLE=Aclassacademy:geo:0,0
END:VEVENT
BEGIN:VTIMEZONE
TZID:America/New_York
X-LIC-LOCATION:America/New_York
BEGIN:STANDARD
DTSTART:20241103T010000
TZOFFSETFROM:-0400
TZOFFSETTO:-0500
TZNAME:EST
END:STANDARD
END:VTIMEZONE
END:VCALENDAR