BEGIN:VCALENDAR
VERSION:2.0
PRODID:-//A Class Academy | DCJS accredited online school - ECPv6.7.1//NONSGML v1.0//EN
CALSCALE:GREGORIAN
METHOD:PUBLISH
X-ORIGINAL-URL:https://aclass.numerique.icu
X-WR-CALDESC:Events for A Class Academy | DCJS accredited online school
REFRESH-INTERVAL;VALUE=DURATION:PT1H
X-Robots-Tag:noindex
X-PUBLISHED-TTL:PT1H
BEGIN:VTIMEZONE
TZID:America/New_York
BEGIN:DAYLIGHT
TZOFFSETFROM:-0500
TZOFFSETTO:-0400
TZNAME:EDT
DTSTART:20240310T070000
END:DAYLIGHT
BEGIN:STANDARD
TZOFFSETFROM:-0400
TZOFFSETTO:-0500
TZNAME:EST
DTSTART:20241103T060000
END:STANDARD
END:VTIMEZONE
BEGIN:VEVENT
DTSTART;TZID=America/New_York:20240429T080000
DTEND;TZID=America/New_York:20240430T180000
DTSTAMP:20260424T093112
CREATED:20240305T164909Z
LAST-MODIFIED:20240326T150247Z
UID:32032-1714377600-1714500000@aclass.numerique.icu
SUMMARY:Roanoke - 25E 2024
DESCRIPTION:Click here to register\n\nCOURSE CONTENT: \n25E: \n\nCode of Virginia and 6VAC20-174\, Regulations Relating to Private Security Services\nSigns of Terrorism\nOrientation to Locksmithing\n\nHistory of locksmithing\nEthics\nTrade resources\nTerminology\nProfessional conduct\nJob safety\n\n\nPublic Safety Codes\n\nNFPA (80\, 101)\nOverview of Authorities Having Jurisdiction (AHJs)\nADA\nTerminology\nSafety code resources\n\n\nTechnical Applications\n\nTerminology (to include definition/purpose/function)\nLocks/types\nHanding\nMaster keying\nKey records and codes\nKey blanks and keyways\nPhysical security\nTypes of client sites\nSafes/vaults\nAccess control\nHandling restricted keys\nDoor system components\nAutomotive\n\n\nWritten comprehensive examination
URL:https://aclass.numerique.icu/classes/roanoke-25e-2024/
LOCATION:Roanoke\, 1201 Electric Rd\, Salem\, VA\, 24153\, United States
ATTACH;FMTTYPE=image/jpeg:https://aclass.numerique.icu/wp-content/uploads/2022/07/AdobeStock_266706790.jpg
END:VEVENT
BEGIN:VEVENT
DTSTART;TZID=America/New_York:20240304T080000
DTEND;TZID=America/New_York:20240305T170000
DTSTAMP:20260424T093112
CREATED:20240208T174657Z
LAST-MODIFIED:20241203T225023Z
UID:31851-1709539200-1709658000@aclass.numerique.icu
SUMMARY:Roanoke 30E-35E-39E Electronic Security Courses
DESCRIPTION:Click here to register\n\n\n\nCOURSE CONTENT:\n\n30E:\n\n 	Administration and orientation\n1.1 Applicable sections of the Code of Virginia\n1.2 6VAC20-174\, Regulations Relating to Private Security Services\n1.3 Signs of Terrorism\n 	Overview of electronic security\n 	False alarm prevention\n 	Written comprehensive examination\n\n35E:\n\n 	Duties and Responsibilities\n 	Electronics\n 	Control Panels\n 	Protection Devices and Application\n 	Test Equipment\n 	Power and Grounding\n 	National Electrical Code\n 	Job Safety\n\n39E:\n\n 	Duties and Responsibilities\n 	System Design/Components\n 	False Alarm Prevention\n 	Quiz
URL:https://aclass.numerique.icu/classes/roanoke-30e-35e-39e-electronic-security-courses/
LOCATION:Roanoke\, 1201 Electric Rd\, Salem\, VA\, 24153\, United States
ATTACH;FMTTYPE=image/jpeg:https://aclass.numerique.icu/wp-content/uploads/2019/11/Residential-Service-Contractor-Arriving-to-Job-Site-min.jpg
END:VEVENT
BEGIN:VEVENT
DTSTART;TZID=America/New_York:20240217T080000
DTEND;TZID=America/New_York:20240222T180000
DTSTAMP:20260424T093112
CREATED:20240124T185134Z
LAST-MODIFIED:20241203T223612Z
UID:31737-1708156800-1708624800@aclass.numerique.icu
SUMMARY:Armed Security Officer Entry Level 01E-05E-75E
DESCRIPTION:Click here to register\n \n\nCOURSE CONTENT:\n\n01E: Security Officer Core Subjects Entry Level\n\n 	Orientation\n\n 	Applicable sections of the Code of Virginia and Regulations Relating to Private Security Services\n 	Code of Ethics\n 	General Duties and Responsibilities\n 	Signs of Terrorism\n\n\n 	Security Patrol\, Access Control\, and Communications\n 	Documentation\n 	Emergency Procedures\n 	Confrontation Management\n 	Use of force\n 	Written comprehensive examination\n\n \n\n05E: Armed Security Officer Arrest Authority\n\n 	Arrest Powers\n 	Policies\n 	Procedures\n\n \n\n75E:  Security Officer Handgun\n\n 	\n\n 	Practical handgun handling\n\n 	Identification of handgun parts\n 	Draw\n 	Reholstering\n 	Ready position\n 	Loading\n 	Administrative loading\n 	Tactical reloading\n 	Rapid reloading\n 	Unloading\n 	Malfunctions\n 	Immediate actions procedures\n 	Remedial action\n 	Proper care and maintenance\n 	Firearms retention\n 	Ammunition identification and management\n 	Range safety\n 	Tactical considerations\n 	Movement\n 	Cover and concealment\n\n\n 	Fundamentals of marksmanship\n\n 	Grip\n 	Stance (position)\n 	Sight alignment\n 	Sight picture\n 	Trigger control\n 	Breathing\n 	Follow through\n​\n\n\n 	Dim light/low light/reduced light practice and familiarization\n\n 	Identification of target/threat/background\n 	Unaided training\n 	Aided training\n 	Flashlight use\n 	Reloading during low light conditions\n 	Malfunctions\n 	Range safety\n 	Tactical considerations\n 	Movement\n 	Cover and concealment\n 	Multiple target drills\n​\n\n\n 	Use of force\n\n 	Deadly force\n 	Justifiable deadly force\n\n\n 	Liability\n\n 	Criminal liability\n 	Civil liability\n 	Negligent discharge prevention\n\n\n 	Judgmental shooting: judgmental shooting scenarios will be conducted in the classroom/range\n\n 	Shoot/don’t shoot judgment\n 	Turn and fire drills\n 	Failure to stop drills\n 	Multiple target drills\n\n\n 	Lead exposure
URL:https://aclass.numerique.icu/classes/armed-security-officer-entry-level-01e-05e-75e/
LOCATION:A Class Academy\, 9303 Center Street Suite 100\, MANASSAS\, VA\, 20110\, United States
ATTACH;FMTTYPE=image/jpeg:https://aclass.numerique.icu/wp-content/uploads/2020/10/a-class-academy-07r.jpg
END:VEVENT
END:VCALENDAR