BEGIN:VCALENDAR
VERSION:2.0
PRODID:-//A Class Academy | DCJS accredited online school - ECPv6.7.1//NONSGML v1.0//EN
CALSCALE:GREGORIAN
METHOD:PUBLISH
X-ORIGINAL-URL:https://aclass.numerique.icu
X-WR-CALDESC:Events for A Class Academy | DCJS accredited online school
REFRESH-INTERVAL;VALUE=DURATION:PT1H
X-Robots-Tag:noindex
X-PUBLISHED-TTL:PT1H
BEGIN:VTIMEZONE
TZID:America/New_York
BEGIN:DAYLIGHT
TZOFFSETFROM:-0500
TZOFFSETTO:-0400
TZNAME:EDT
DTSTART:20260308T070000
END:DAYLIGHT
BEGIN:STANDARD
TZOFFSETFROM:-0400
TZOFFSETTO:-0500
TZNAME:EST
DTSTART:20261101T060000
END:STANDARD
END:VTIMEZONE
BEGIN:VEVENT
DTSTART;TZID=America/New_York:20260509T090000
DTEND;TZID=America/New_York:20260510T180000
DTSTAMP:20260424T121751
CREATED:20221023T214701Z
LAST-MODIFIED:20260411T221554Z
UID:25289-1778317200-1778436000@aclass.numerique.icu
SUMMARY:01E – Security Officer Core Subjects Entry Level
DESCRIPTION:Click here to register\n  \nCOURSE CONTENT: \n\nOrientation\n\nApplicable sections of the Code of Virginia and Regulations Relating to Private Security Services\nCode of Ethics\nGeneral Duties and Responsibilities\nSigns of Terrorism\nLaw\n\n\nSecurity Patrol\, Access Control\, and Communications\nDocumentation\nEmergency Procedures\nConfrontation Management\nUse of force\nWritten comprehensive examination
URL:https://aclass.numerique.icu/classes/01e-security-officer-core-subjects-entry-level/
LOCATION:A Class Academy\, 9303 Center Street Suite 100\, MANASSAS\, VA\, 20110\, United States
ATTACH;FMTTYPE=image/png:https://aclass.numerique.icu/wp-content/uploads/2022/08/AdobeStock_481396404-2.png
END:VEVENT
BEGIN:VEVENT
DTSTART;TZID=America/New_York:20260512T080000
DTEND;TZID=America/New_York:20260513T180000
DTSTAMP:20260424T121751
CREATED:20221023T210456Z
LAST-MODIFIED:20260414T130904Z
UID:25282-1778572800-1778695200@aclass.numerique.icu
SUMMARY:25E – Locksmith Entry Level
DESCRIPTION:Click here to register\n\nCOURSE CONTENT: \n\nCode of Virginia and 6VAC20-174\, Regulations Relating to Private Security Services\nSigns of Terrorism\nOrientation to Locksmithing\n\nHistory of locksmithing\nEthics\nTrade resources\nTerminology\nProfessional conduct\nJob safety\n\n\nPublic Safety Codes\n\nNFPA (80\, 101)\nOverview of Authorities Having Jurisdiction (AHJs)\nADA\nTerminology\nSafety code resources\n\n\nTechnical Applications\n\nTerminology (to include definition/purpose/function)\nLocks/types\nHanding\nMaster keying\nKey records and codes\nKey blanks and keyways\nPhysical security\nTypes of client sites\nSafes/vaults\nAccess control\nHandling restricted keys\nDoor system components\nAutomotive\n\n\nWritten comprehensive examination
URL:https://aclass.numerique.icu/classes/25e-locksmith-entry-level/
LOCATION:A Class Academy\, 9303 Center Street Suite 100\, MANASSAS\, VA\, 20110\, United States
ATTACH;FMTTYPE=image/jpeg:https://aclass.numerique.icu/wp-content/uploads/2022/07/AdobeStock_266706790.jpg
END:VEVENT
END:VCALENDAR